BEGIN:VCALENDAR
VERSION:2.0
PRODID:-//Xarxa Alcover - ECPv6.6.4.1//NONSGML v1.0//EN
CALSCALE:GREGORIAN
METHOD:PUBLISH
X-ORIGINAL-URL:https://www.xarxaalcover.cat
X-WR-CALDESC:Esdeveniments per Xarxa Alcover
REFRESH-INTERVAL;VALUE=DURATION:PT1H
X-Robots-Tag:noindex
X-PUBLISHED-TTL:PT1H
BEGIN:VTIMEZONE
TZID:Europe/Helsinki
BEGIN:DAYLIGHT
TZOFFSETFROM:+0200
TZOFFSETTO:+0300
TZNAME:EEST
DTSTART:20210328T010000
END:DAYLIGHT
BEGIN:STANDARD
TZOFFSETFROM:+0300
TZOFFSETTO:+0200
TZNAME:EET
DTSTART:20211031T010000
END:STANDARD
END:VTIMEZONE
BEGIN:VEVENT
DTSTART;TZID=Europe/Helsinki:20210411T120000
DTEND;TZID=Europe/Helsinki:20210411T130000
DTSTAMP:20260421T195804
CREATED:20210330T141858Z
LAST-MODIFIED:20210330T141858Z
UID:7339-1618142400-1618146000@www.xarxaalcover.cat
SUMMARY:UNA HISTÒRIA VERTADERA - Iguana Teatre - Osca
DESCRIPTION:
URL:https://www.xarxaalcover.cat/event/una-historia-vertadera-iguana-teatre-osca/
CATEGORIES:En Gira 2018 - 2019
END:VEVENT
END:VCALENDAR